BEGIN:VCALENDAR
VERSION:2.0
PRODID:-//IBWC - ECPv6.11.2.1//NONSGML v1.0//EN
CALSCALE:GREGORIAN
METHOD:PUBLISH
X-WR-CALNAME:IBWC
X-ORIGINAL-URL:https://ibwc-dr.azurewebsites.net
X-WR-CALDESC:Events for IBWC
REFRESH-INTERVAL;VALUE=DURATION:PT1H
X-Robots-Tag:noindex
X-PUBLISHED-TTL:PT1H
BEGIN:VTIMEZONE
TZID:America/Phoenix
BEGIN:STANDARD
TZOFFSETFROM:-0700
TZOFFSETTO:-0700
TZNAME:MST
DTSTART:20250101T000000
END:STANDARD
END:VTIMEZONE
BEGIN:VEVENT
DTSTART;TZID=America/Phoenix:20250219T000000
DTEND;TZID=America/Phoenix:20250220T000000
DTSTAMP:20260421T051045
CREATED:20250228T011833Z
LAST-MODIFIED:20250311T163659Z
UID:4572-1739923200-1740009600@ibwc-dr.azurewebsites.net
SUMMARY:USIBWC Middle Reach Stakeholders Forum - February 19 & February 20\, 2025
DESCRIPTION:**Link to Presentation** \n**Link to Video** \n  \nThe U.S. Section of the International Boundary and Water Commission (USIBWC) will host in person and virtual public meetings in the Middle Rio Grande region on \nFebruary 19 and 20\, 2025. \nPresenters will cover the Amistad Dam mitigation plan\, the Safety of Dams program\, ongoing\nand upcoming area operations\, and an update on Rio Grande hydrology\, water deliveries\, and Minute 331. A tour of Amistad Dam was offered on Wednesday\, February 19\, from 10 a.m.-12 p.m. CST \n  \nKarla Benitez\, USIBWC Civil Engineer: Amistad Dam mitigation plan. \nDelbert Humberson\, USIBWC Hydrologist: Update on Rio Grande hydrology\, water deliveries\, and Minute 331. \nMario Gomez\, USIBWC Acting Operation and Maintenance Chief: Updates to the Safety\nof Dams program and ongoing and upcoming area operations activities \n  \nFirst meeting held on Wednesday\, February 19\, from 2-5 p.m. CST. at: \nDel Rio Municipal Building \n109 W Broadway St.\, Del Rio\, Texas \nSecond meeting held on Thursday\, February 20\, from 9 a.m.–12 p.m. CST at: \nLaredo Water Museum \n2702 Anna Ave.\, Laredo\, Texas
URL:https://ibwc-dr.azurewebsites.net/meeting/usibwc-middle-reach-stakeholders-forum-february-19-february-20-2025/
CATEGORIES:Middle Rio Grande Stakeholders Meeting
END:VEVENT
END:VCALENDAR